BEGIN:VCALENDAR
VERSION:2.0
CALSCALE:GREGORIAN
PRODID:adamgibbons/ics
METHOD:PUBLISH
X-PUBLISHED-TTL:PT1H
BEGIN:VEVENT
UID:13141@do.basspistol.org
SUMMARY:JAM SESSION ACÙSTICA
DTSTAMP:20260421T214631Z
DTSTART:20260426T103000Z
URL:https://do.basspistol.org/event/jam-session-acustica
GEO:41.4059836;2.1567601
LOCATION:Ateneu Llibertari de Gràcia - 5 B2\, Carrer de l'Alzina\, Gràcia\,
	 Barcelona\, 08024
STATUS:CONFIRMED
CATEGORIES:Gràcia,acte solidari,dinarVegà,jamsesion,vermut
END:VEVENT
END:VCALENDAR
